BEGIN:VCALENDAR
VERSION:2.0
PRODID:-//Plone.org//NONSGML plone.app.event//EN
X-WR-TIMEZONE:Asia/Tokyo
BEGIN:VEVENT
SUMMARY:《1部 ジャビットカップ》vs. 立川メッツ
DTSTART;TZID=Asia/Tokyo;VALUE=DATE-TIME:20160605T111000
DTEND;TZID=Asia/Tokyo;VALUE=DATE-TIME:20160605T125000
DTSTAMP;VALUE=DATE-TIME:20260420T210957Z
UID:f9c08812a4324d5e9aa5442556118898
CREATED;VALUE=DATE-TIME:20160603T000224Z
DESCRIPTION:J:COM ジャビットカップ立川大会 準決勝
LAST-MODIFIED;VALUE=DATE-TIME:20161007T052447Z
LOCATION:泉町
URL:https://www.fujimiseals.com/events/2016/06/qhppfb
END:VEVENT
BEGIN:VTIMEZONE
TZID:Asia/Tokyo
X-LIC-LOCATION:Asia/Tokyo
BEGIN:STANDARD
DTSTART;VALUE=DATE-TIME:19510908T010000
TZNAME:JST
TZOFFSETFROM:+1000
TZOFFSETTO:+0900
END:STANDARD
END:VTIMEZONE
END:VCALENDAR
