BEGIN:VCALENDAR
VERSION:2.0
PRODID:-//Plone.org//NONSGML plone.app.event//EN
X-WR-TIMEZONE:Asia/Tokyo
BEGIN:VEVENT
SUMMARY:《2部 G1杯新人戦》vs. 日の出 J ファイターズ
DTSTART;TZID=Asia/Tokyo;VALUE=DATE-TIME:20161010T100000
DTEND;TZID=Asia/Tokyo;VALUE=DATE-TIME:20161010T113000
DTSTAMP;VALUE=DATE-TIME:20260419T232217Z
UID:10994b1db28f4872933b6625e5fc8a34
CONTACT:http://www.tamatebakonet.jp/sports/
CREATED;VALUE=DATE-TIME:20160708T054644Z
LAST-MODIFIED;VALUE=DATE-TIME:20161007T051515Z
LOCATION:あきる野市小峰グラウンド
URL:https://www.fujimiseals.com/events/2016/10/10-2bu-game
END:VEVENT
BEGIN:VTIMEZONE
TZID:Asia/Tokyo
X-LIC-LOCATION:Asia/Tokyo
BEGIN:STANDARD
DTSTART;VALUE=DATE-TIME:19510908T010000
TZNAME:JST
TZOFFSETFROM:+1000
TZOFFSETTO:+0900
END:STANDARD
END:VTIMEZONE
END:VCALENDAR
